  BEGIN:VCALENDAR
VERSION:2.0
PRODID:-//hacksw/handcal//NONSGML v1.0//EN
CALSCALE:GREGORIAN
BEGIN:VEVENT
DESCRIPTION:Tijdens de online bijeenkomst maak je kennis met kliederkerk.
DTSTART:20270512T180000Z
SUMMARY:Online kliederkerk proeverij
LOCATION:Online
URL;VALUE=URI:https://protestantsekerk.nl/evenementen/online-kliederkerk-proeverijen/
DTEND:20270512T190000Z
DTSTAMP:20260425T135827Z
UID:69ecac631c11b
END:VEVENT
END:VCALENDAR
