  BEGIN:VCALENDAR
VERSION:2.0
PRODID:-//hacksw/handcal//NONSGML v1.0//EN
CALSCALE:GREGORIAN
BEGIN:VEVENT
DESCRIPTION:Twee dagen vol inspiratie voor ieder die vrijmoedig het evangelie verkondigt\; dat belooft de tweede editie van het Preekfestival te worden. 
DTSTART:20260608T150000Z
SUMMARY:Preekfestival 2026
LOCATION:Utrecht
URL;VALUE=URI:https://www.pthu.nl/actueel/agenda/2026/06/preekfestival-2026/
DTEND:20260609T190000Z
DTSTAMP:20260425T135826Z
UID:69ecac62b9221
END:VEVENT
END:VCALENDAR
