  BEGIN:VCALENDAR
VERSION:2.0
PRODID:-//hacksw/handcal//NONSGML v1.0//EN
CALSCALE:GREGORIAN
BEGIN:VEVENT
DESCRIPTION:Zomerontmoeting van IZB-Areopagus Young voor jonge voorgangers tot 35 jaar.
DTSTART:20260618T144500Z
SUMMARY:Theologie op het terras &#039;Goed geworteld&#039;
LOCATION:Parkhuis Amersfoort\, Heiligenbergerweg 151\, 3816 AJ Amersfoort
URL;VALUE=URI:https://www.izb.nl/areopagus-bijeenkomst/213/areopagus-young-theologie-op-het-terras
DTEND:20260618T191500Z
DTSTAMP:20260425T135730Z
UID:69ecac2a8f8d4
END:VEVENT
END:VCALENDAR
