  BEGIN:VCALENDAR
VERSION:2.0
PRODID:-//hacksw/handcal//NONSGML v1.0//EN
CALSCALE:GREGORIAN
BEGIN:VEVENT
DESCRIPTION:Studiedag over een onderwerp dat het hart van de bijbelse exegese en ook de actuele politieke situatie raakt\, met theoloog\, publicist en voormalig theoloog-des-vaderlands Janneke Stegeman als inleider
DTSTART:20260529T083000Z
SUMMARY:Vreemdelingschap en landbelofte voor de kinderen van Israël\, tussen exegese en politiek
LOCATION:Torenpleinkerk\, Schoolstraat 5\, 3451 AA te Vleuten
URL;VALUE=URI:https://monshouwerstichting.nl/activiteit/studiedag-vreemdelingschap-en-landbelofte-voor-israel
DTEND:20260529T130000Z
DTSTAMP:20260425T135731Z
UID:69ecac2b15d72
END:VEVENT
END:VCALENDAR
